BEGIN:VCALENDAR
VERSION:2.0
PRODID:-//kitap.tatar.ru
CALSCALE:GREGORIAN
BEGIN:VTIMEZONE
TZID:Europe/Moscow
TZURL:http://tzurl.org/zoneinfo-outlook/Europe/Moscow
BEGIN:STANDARD
TZOFFSETFROM:+0300
TZOFFSETTO:+0300
TZNAME:MSK
DTSTART:19700101T000000
END:STANDARD
END:VTIMEZONE
BEGIN:VEVENT
UID:1499
DTSTART;TZID="Europe/Moscow":20161221T090000
DTEND;TZID="Europe/Moscow":20161228T180000
SUMMARY:Event Выставка книг &quot;О воспитании с обоснованием&quot;
DESCRIPTION:Выставка книг &quot;О воспитании с обоснованием&quot;
LOCATION:МБУ &quot;Черемшанская межпоселенческая центральная библиотека&quot;
END:VEVENT
END:VCALENDAR