BEGIN:VCALENDAR
VERSION:2.0
PRODID:-//kitap.tatar.ru
CALSCALE:GREGORIAN
BEGIN:VTIMEZONE
TZID:Europe/Moscow
TZURL:http://tzurl.org/zoneinfo-outlook/Europe/Moscow
BEGIN:STANDARD
TZOFFSETFROM:+0300
TZOFFSETTO:+0300
TZNAME:MSK
DTSTART:19700101T000000
END:STANDARD
END:VTIMEZONE
BEGIN:VEVENT
UID:1340
DTSTART;TZID="Europe/Moscow":20161114T120000
DTEND;TZID="Europe/Moscow":20161120T120000
SUMMARY:Event Книжная выставка &quot;Карамзин на все времена&quot; к 250 летию со дня рождения Н. М. Карамзина.
DESCRIPTION:Книжная выставка &quot;Карамзин на все времена&quot; к 250 летию со дня рождения Н. М. Карамзина.
LOCATION:МБУ &quot;Черемшанская межпоселенческая центральная библиотека&quot;
END:VEVENT
END:VCALENDAR