BEGIN:VCALENDAR
VERSION:2.0
PRODID:-//kitap.tatar.ru
CALSCALE:GREGORIAN
BEGIN:VTIMEZONE
TZID:Europe/Moscow
TZURL:http://tzurl.org/zoneinfo-outlook/Europe/Moscow
BEGIN:STANDARD
TZOFFSETFROM:+0300
TZOFFSETTO:+0300
TZNAME:MSK
DTSTART:19700101T000000
END:STANDARD
END:VTIMEZONE
BEGIN:VEVENT
UID:1476
DTSTART;TZID="Europe/Moscow":20161216T140000
DTEND;TZID="Europe/Moscow":20161216T160000
SUMMARY:Event Экологический час  &quot; Природа -  наш дом&quot;
DESCRIPTION:Экологический час  &quot; Природа -  наш дом&quot; в рамках предстоящего Года экологии
LOCATION:МБУ &quot;Черемшанская межпоселенческая центральная библиотека&quot;
END:VEVENT
END:VCALENDAR