BEGIN:VCALENDAR
VERSION:2.0
PRODID:-//kitap.tatar.ru
CALSCALE:GREGORIAN
BEGIN:VTIMEZONE
TZID:Europe/Moscow
TZURL:http://tzurl.org/zoneinfo-outlook/Europe/Moscow
BEGIN:STANDARD
TZOFFSETFROM:+0300
TZOFFSETTO:+0300
TZNAME:MSK
DTSTART:19700101T000000
END:STANDARD
END:VTIMEZONE
BEGIN:VEVENT
UID:1438
DTSTART;TZID="Europe/Moscow":20161209T120000
DTEND;TZID="Europe/Moscow":20161209T140000
SUMMARY:Event Исторический час &quot;Великие полководцы: Маршал Жуков&quot;
DESCRIPTION:Исторический час &quot;Великие полководцы: Маршал Жуков&quot;
LOCATION:МБУ &quot;Черемшанская межпоселенческая центральная библиотека&quot;
END:VEVENT
END:VCALENDAR