BEGIN:VCALENDAR
VERSION:2.0
PRODID:-//kitap.tatar.ru
CALSCALE:GREGORIAN
BEGIN:VTIMEZONE
TZID:Europe/Moscow
TZURL:http://tzurl.org/zoneinfo-outlook/Europe/Moscow
BEGIN:STANDARD
TZOFFSETFROM:+0300
TZOFFSETTO:+0300
TZNAME:MSK
DTSTART:19700101T000000
END:STANDARD
END:VTIMEZONE
BEGIN:VEVENT
UID:1271
DTSTART;TZID="Europe/Moscow":20161027T120000
DTEND;TZID="Europe/Moscow":20161103T120000
SUMMARY:Event Цикл мероприятий &quot;День народного единства&quot;
DESCRIPTION:Цикл мероприятий &quot;День народного единства&quot;
LOCATION:МБУ &quot;Черемшанская межпоселенческая центральная библиотека&quot;
END:VEVENT
END:VCALENDAR