BEGIN:VCALENDAR
VERSION:2.0
PRODID:-//kitap.tatar.ru
CALSCALE:GREGORIAN
BEGIN:VTIMEZONE
TZID:Europe/Moscow
TZURL:http://tzurl.org/zoneinfo-outlook/Europe/Moscow
BEGIN:STANDARD
TZOFFSETFROM:+0300
TZOFFSETTO:+0300
TZNAME:MSK
DTSTART:19700101T000000
END:STANDARD
END:VTIMEZONE
BEGIN:VEVENT
UID:23892
DTSTART;TZID="Europe/Moscow":20260505T130000
DTEND;TZID="Europe/Moscow":20260505T140000
SUMMARY:Event «Вы вернули мне веру в людей»
DESCRIPTION:выставка
LOCATION:IШумбутская сельская библиотека
END:VEVENT
END:VCALENDAR