BEGIN:VCALENDAR
VERSION:2.0
PRODID:-//kitap.tatar.ru
CALSCALE:GREGORIAN
BEGIN:VTIMEZONE
TZID:Europe/Moscow
TZURL:http://tzurl.org/zoneinfo-outlook/Europe/Moscow
BEGIN:STANDARD
TZOFFSETFROM:+0300
TZOFFSETTO:+0300
TZNAME:MSK
DTSTART:19700101T000000
END:STANDARD
END:VTIMEZONE
BEGIN:VEVENT
UID:5258
DTSTART;TZID="Europe/Moscow":20181102T160000
DTEND;TZID="Europe/Moscow":20181102T200000
SUMMARY:Event «Ночь искусств» в Национальной библиотеке Республики Татарстан
DESCRIPTION:2 ноября 2018 года в рамках ежегодной Всероссийской культурно-образовательной акции «Ночь искусств» Национальная библиотека Республики Татарстан приглашает посетить отдел искусств (ул. Театральная, д. 5) для участия в мероприятиях под общим слоганом «Искусство объединяет».  
LOCATION:Отдел искусств (ул. Театральная, д. 5)
END:VEVENT
END:VCALENDAR